BEGIN:VCALENDAR
VERSION:2.0
CALSCALE:GREGORIAN
PRODID:-//MyApp//Calendar 1.0//EN
BEGIN:VEVENT
METHOD:PUBLISH
UID:62321@regionalniportaly.cz
DTSTAMP:20260422T130054Z
DTSTART;VALUE=DATE:20260307
DTEND;VALUE=DATE:20260308
SUMMARY:Dance Cup Česká Lípa 2026
DESCRIPTION:Přijďte podpořit své favority :-) Těšíme se na vás.&nbsp\;
LOCATION:Česká Lípa
END:VEVENT
END:VCALENDAR