BEGIN:VCALENDAR
VERSION:2.0
CALSCALE:GREGORIAN
PRODID:-//MyApp//Calendar 1.0//EN
BEGIN:VEVENT
METHOD:PUBLISH
UID:62867@regionalniportaly.cz
DTSTAMP:20260422T130043Z
DTSTART;VALUE=DATE:20260306
DTEND;VALUE=DATE:20260307
SUMMARY:Wotazník + hosté | PŘESTUPNÍ STANICE TOUR | Mladá Boleslav
DESCRIPTION:Boleslavská kapela Wotazník po dlouhém čekání vydává novou desku 'Přestupní stanice' a vyráží na jarní klubové turné\, které odstartuje 6.3. v klubu Willax Heineken. Jako hosté vystoupí kapely NO TALENT a Satanova Malá Raketka.🛼WOTAZNÍK🛼[rock\, Mladá Boleslav]Wotazník je šestice mladých\, pohledných\, talentovaných a v neposlední řadě skromných gentlemanů. Stavíme na poctivým rockovým základu s chytlavými českými texty\, ale taky s žánrovými odbočkami kamkoliv\, kde nás to zrovna baví. Během show ti dáme všechnu energii co máme\, jediný triko nezůstane suchý. Máme venku nový album Přestupní Stanice\, tak ho mazej točit!🎧 https://open.spotify.com/artist/5AaDXTFgJPfjKEpHYAleVk?si=m8-E2VxzTVmsAjZ8IibJaw🎸NO TALENT🎸[rock\, Praha/Ml. Boleslav]NOT je hudební projekt muzikantů\, kteří se rozhodli být po třicítce konečně slavnými. Nic víc za tím není třeba hledat. NOT není parta kamarádů\, kteří klidně budou hrát s radostí ve zkušebně nebo v malých sálech. NOT je parta muzikantů\, kteří chtějí hrát na největších světových festivalech a mít desetitisíce fanoušků během 2 let. Ano\, přesně o tom to je. Víc času v našem věku už ani nemáme...🎧 https://open.spotify.com/artist/5dAlVXddO9xi4eaKn3s1Gr?si=2TINVWL9QkCv4P0H47K6lA👾SATANOVA MALÁ RAKETKA👾[nerdcore\, Mnichovo Hradiště]Jsme malá\, technologicko-satanistická sekta složená z introvertních jedinců. Svým stylem nerdcore a komunikačním robotem Světlanou chceme rozšířit řady svých následovníků. Co je sakra nerdcore? Něco mezi SlipKnoT a Hankou Zagorovou.🎧 https://open.spotify.com/artist/6LyujMgTZWmh3FljtqAtX3?si=x6Coma89TbqMKmQeu3nFOQVSTUPNÉ NA MÍSTĚ ZA JEDNOTNOU CENU 350\,-
LOCATION:Mladá Boleslav
END:VEVENT
END:VCALENDAR