BEGIN:VCALENDAR
VERSION:2.0
CALSCALE:GREGORIAN
PRODID:-//MyApp//Calendar 1.0//EN
BEGIN:VEVENT
METHOD:PUBLISH
UID:63307@regionalniportaly.cz
DTSTAMP:20260422T005402Z
DTSTART;VALUE=DATE:20260521
DTEND;VALUE=DATE:20260522
SUMMARY:Všichni jsme herci
DESCRIPTION:aneb Co by kdybyNapadlo vás někdy\, co by se stalo\, kdyby se dějiny ubíraly jiným řečištěm času\, kdyby byla některá z&nbsp\;dějinných výhybek přehozena na jinou kolej? Nás to napadlo.&nbsp\;Hrají členové Divadýlka na dlani.
LOCATION:Mladá Boleslav
END:VEVENT
END:VCALENDAR