BEGIN:VCALENDAR
VERSION:2.0
CALSCALE:GREGORIAN
PRODID:-//MyApp//Calendar 1.0//EN
BEGIN:VEVENT
METHOD:PUBLISH
UID:63309@regionalniportaly.cz
DTSTAMP:20260421T184723Z
DTSTART;VALUE=DATE:20260401
DTEND;VALUE=DATE:20260402
SUMMARY:Přepište dějiny
DESCRIPTION:Autoři populárního podcastu Přepište dějiny Michal Stehlík a Martin Groman připomenou při svém vystoupení v Bělé pod Bezdězem nejen valdštejnskou tradici místa\, ale také třeba slavné rodáky nebo některé temné momenty moderních dějin.Dojde na Miloslava Dismana i Václava Trégla či Luďka Pachmana. A opravdu se tu skladovaly jaderné hlavice?Další podrobnosti naleznete na stránkách podcastu:&nbsp\;https://prepistedejiny.cz/&nbsp\;
LOCATION:Bělá pod Bezdězem
END:VEVENT
END:VCALENDAR