BEGIN:VCALENDAR
VERSION:2.0
CALSCALE:GREGORIAN
PRODID:-//MyApp//Calendar 1.0//EN
BEGIN:VEVENT
METHOD:PUBLISH
UID:63450@regionalniportaly.cz
DTSTAMP:20260422T130255Z
DTSTART;VALUE=DATE:20260403
DTEND;VALUE=DATE:20260404
SUMMARY:Velikonoční den plný radosti pro děti
DESCRIPTION:Velikonoční den plný radosti pro děti&nbsp\;Zveme vás na jarní odpoledne plné smíchu\, tvoření a pohybu! Čeká nás pletení pomlázek\, sázení travičky\, velikonoční tvoření\, mini disco\, skákací hrad i pestrý program pro děti.Připravily&nbsp\;jsme také zábavné soutěže o malé odměny.Nebude chybět ani malování na obličej a fotokoutek pro krásné vzpomínky.A samozřejmě dorazí i náš oblíbený maskot –&nbsp\;náš vlk\, který pravidelně baví děti na našich akcích a vždycky rozjede tu pravou show. Společnost mu bude dělat i roztomilý&nbsp\;Stitch\, takže o objetí\, fotky a tanec rozhodně nebude nouze!Pro rodiče bude připravené občerstvení\, káva i něco slaného i sladkého – protože víme\, že energie je potřeba.Přijďte si užít Velikonoce plné zážitků\, radosti a společného času. Tohle bude odpoledne\, na které budou děti ještě dlouho vzpomínat.Vstupné platí pouze děti\, dospělý doprovod je zdarma!Vstupné na místě: 300\,- / dítěZačátek akce: 14:00Konec akce: 17:00&nbsp\;Těšíme se na vás. Eliška a Eliška&nbsp\;&nbsp\;
LOCATION:Mladá Boleslav
END:VEVENT
END:VCALENDAR