BEGIN:VCALENDAR
VERSION:2.0
CALSCALE:GREGORIAN
PRODID:-//MyApp//Calendar 1.0//EN
BEGIN:VEVENT
METHOD:PUBLISH
UID:63461@regionalniportaly.cz
DTSTAMP:20260422T130320Z
DTSTART;VALUE=DATE:20260320
DTEND;VALUE=DATE:20260321
SUMMARY:Skautský ples střediska Štika Turnov
DESCRIPTION:Skautský ples střediska Štika Turnov proběhne 20. března 2026 od 19:00 v sále SUPŠ Turnov a slibuje večer plný tance\, hudby a skvělé atmosféry. Přijďte si užít setkání skautů\, přátel i příznivců dobré zábavy\, roztočit to na parket a protančit noc. O hudební doprovod se postará kapela Duo BigBand\, která vás rozhodně nenechá sedět u stolů. 💃🕺
LOCATION:Turnov
END:VEVENT
END:VCALENDAR