BEGIN:VCALENDAR
VERSION:2.0
CALSCALE:GREGORIAN
PRODID:-//MyApp//Calendar 1.0//EN
BEGIN:VEVENT
METHOD:PUBLISH
UID:63796@regionalniportaly.cz
DTSTAMP:20260422T003324Z
DTSTART;VALUE=DATE:20260606
DTEND;VALUE=DATE:20260607
SUMMARY:Dvořákův festival: Mozartissimo
DESCRIPTION:Dvořák &amp\; JAZZPořadatel:&nbsp\;Dvořákův festival&nbsp\;Účinkující:MARIE FAJTOVÁ – sopránJIŘÍ HÁJEK – barytonMILOŠ BYDŽOVSKÝ – klarinetJAN HOĎÁNEK – hobojŠTĚPÁN RÍMSKÝ – fagot&nbsp\;Program:Figarova svatbaPředehraFigaro – „Non più andrai“Cherubino – „Voi che sapete“Figaro a Susanna – „Cinque\, dieci\, venti\, trenta“Don Giovanni&nbsp\;Don Giovanni – „Canzonetta“Zerlina – „Vedrai\, carino“Zerlina a Don Giovanni – „La ci darem la mano“L. van Beethoven – Variace pro hoboj\, klarinet a fagotÚnos ze serailuPředehraOsmin – „Solche hergelaufne Laffen“Blonda – „Durch Zärtlichkeit und Schmeicheln“Osmin a Blonda – „Ich gehe\, doch rate ich dir“Kouzelná flétnaPředehraPapageno – „Der Vogelfänger bin ich ja“Pamina – „Ach\, ich fühl's\, es ist verschwunden“Papageno a Papagena – „Pa… Pa…“
LOCATION:Sychrov
END:VEVENT
END:VCALENDAR