BEGIN:VCALENDAR
VERSION:2.0
CALSCALE:GREGORIAN
PRODID:-//MyApp//Calendar 1.0//EN
BEGIN:VEVENT
METHOD:PUBLISH
UID:63850@regionalniportaly.cz
DTSTAMP:20260422T065756Z
DTSTART;VALUE=DATE:20260328
DTEND;VALUE=DATE:20260329
SUMMARY:Šifrovačka se Shakespearem - Ukradený rukopis
DESCRIPTION:Šifrovací hra v prostorách Jiráskova divadla v České Lípě s promítáním ve 19:30
LOCATION:Česká Lípa
END:VEVENT
END:VCALENDAR