BEGIN:VCALENDAR
VERSION:2.0
CALSCALE:GREGORIAN
PRODID:-//MyApp//Calendar 1.0//EN
BEGIN:VEVENT
METHOD:PUBLISH
UID:63995@regionalniportaly.cz
DTSTAMP:20260422T082252Z
DTSTART;VALUE=DATE:20260328
DTEND;VALUE=DATE:20260329
SUMMARY:Růženčiny velikonoční trhy na zámku Zákupy
DESCRIPTION:Využijte předprodeje\, který vám zajistí rezervaci místa na pohádce v sále a rychlejší odbavení u vstupu. Samostatný&nbsp\;vstup&nbsp\;na trhy bude k zakoupení pouze na místě.Díky vstupu na pohádku&nbsp\;také získáte možnost navštívit sál v 1. patře koníren\, který je jinak nepřístupný.&nbsp\;Přijďte prožít kouzelnou&nbsp\;před-velikonoční sobotu plnou&nbsp\;pohádkových příběhů\, rytířů\, princezen a jedinečné atmosféry historického zámku. Čeká na vás bohatý program pro děti i dospělé\, dechberoucí vystoupení\, pohádky\, hudba i nezapomenutelné zážitky.Těšit se můžete na více než 80 stánků\, kde objevíte originální řemeslné výrobky\, velikonoční dekorace\, poctivé dobroty i inspiraci pro sváteční výzdobu. Celý areál ožije barvami\, vůněmi a radostí přicházejícího jara.Co vás čeká v programu?pohádkový příběh o Růžencesoubor historického tance Alla Danzarytířské souboje a rytířské leženívzdušná akrobacie Šárky Ličíkovépísničky z pohádek v podání zpěvačky Anny Skočovsképohádka o Růžence v zámeckém sále (11:00\, 13:00 a 15:00)přehlídka historických kočárkůpohádkový stan a naučná stezka pro děti&nbsp\;INFORMACE KE VSTUPNÉMUVstupenka za 180 Kč zahrnuje:vstup do areálu zámku a na velikonoční trhy s více než 80 stánkykompletní pohádkový program na nádvořípohádku o Růžence v zámeckém sále - veselá pohádka na motivy známého příběhu\, ve které se setkáte nejen s Růženkou a princem\, ale také s milující chůvou.
LOCATION:Zákupy
END:VEVENT
END:VCALENDAR