BEGIN:VCALENDAR
VERSION:2.0
CALSCALE:GREGORIAN
PRODID:-//MyApp//Calendar 1.0//EN
BEGIN:VEVENT
METHOD:PUBLISH
UID:65655@regionalniportaly.cz
DTSTAMP:20260420T071420Z
DTSTART;VALUE=DATE:20260422
DTEND;VALUE=DATE:20260423
SUMMARY:Musica Bohemica
DESCRIPTION:Dne 22. 4. 2026 se v Mladé Boleslavi bude konat jarní koncert skupiny Musica Bohemica. V budově Sboru českých bratří od 19:00.\n \nVstupenky na evstupenka.cz\, na recepci Domu kultury a v Infocentru. 
LOCATION:Mladá Boleslav
END:VEVENT
END:VCALENDAR