BEGIN:VCALENDAR
VERSION:2.0
CALSCALE:GREGORIAN
PRODID:-//MyApp//Calendar 1.0//EN
BEGIN:VEVENT
METHOD:PUBLISH
UID:65656@regionalniportaly.cz
DTSTAMP:20260420T071521Z
DTSTART;VALUE=DATE:20260425
DTEND;VALUE=DATE:20260426
SUMMARY:Zeměfest 2026
DESCRIPTION:Přijďte oslavit Den Země na tradiční rodinný festival Zeměfest\, který se letos ponese v duchu stromů a lesa pod mottem: „Zasaď strom\, zasadíš naději“.\n \nAkce se koná v sobotu od 13:00 do 18:00 v areálech EC Zahrada a Pluhárna.\n \nVstupné:\njednotlivé vstupné 100 Kčrodinné vstupné 300 Kčděti do 3 let zdarma\n 
LOCATION:Mladá Boleslav
END:VEVENT
END:VCALENDAR