BEGIN:VCALENDAR
VERSION:2.0
CALSCALE:GREGORIAN
PRODID:-//MyApp//Calendar 1.0//EN
BEGIN:VEVENT
METHOD:PUBLISH
UID:65657@regionalniportaly.cz
DTSTAMP:20260420T071339Z
DTSTART;VALUE=DATE:20260508
DTEND;VALUE=DATE:20260509
SUMMARY:Vojenský den v Dolním Bousově
DESCRIPTION:Přijďte se podívat 8. května 2026 na Vojenský den.\n \nČeká Vás bojová ukázka\, rekontrukce scénky "Tak nám zabili Ferdinanda"\, přelet letadla AN-2 ANDULA\, seskoky parašutistů\, výstava motocyklů\, automobilová technika\, aj. \n \nAkce trvá od 10 do 17 hodin.
LOCATION:Dolní Bousov
END:VEVENT
END:VCALENDAR