BEGIN:VCALENDAR
VERSION:2.0
CALSCALE:GREGORIAN
PRODID:-//MyApp//Calendar 1.0//EN
BEGIN:VEVENT
METHOD:PUBLISH
UID:65729@regionalniportaly.cz
DTSTAMP:20260421T200755Z
DTSTART;VALUE=DATE:20260511
DTEND;VALUE=DATE:20260512
SUMMARY:Vzpomínka na Bedřicha Smetanu v Jabkenicích
DESCRIPTION:105. ročník festivalu Smetanovy Jabkenice a světoznámí pěvci Gabriela Beňačková a Richard Haan! Tradici dodrží také letos 160letý pěvecký sbor Dobrovan.\n \nKapacita hudebního salonku Památníku B. Smetany v Jabkenicích je 50 osob –\nzarezervujte si místo symbolickým vstupným 50 Kč!\n \nVstupenky lze rezervovat/zakoupit na Obecním úřadě Jabkenice.\nTel: +420 724 075 276\nE-mail: obec@jabkenice.cz\n 
LOCATION:Jabkenice
END:VEVENT
END:VCALENDAR