BEGIN:VCALENDAR
VERSION:2.0
CALSCALE:GREGORIAN
PRODID:-//MyApp//Calendar 1.0//EN
BEGIN:VEVENT
METHOD:PUBLISH
UID:65807@regionalniportaly.cz
DTSTAMP:20260424T105314Z
DTSTART;VALUE=DATE:20260514
DTEND;VALUE=DATE:20260515
SUMMARY:Stand-up show Black&Wood
DESCRIPTION:Zaručeně užitý večer! Přijďte se pořádně zasmát s komiky nové generace\, které znáte z YouTube i z televize&nbsp\;!Vystoupí&nbsp\;:Aleš Pitrmoc - rodák z blízké vesnice.Denis Doležel - moravák z vesnice.Dominik Vu - kupodivu taky rodák.Marek Vobořil - Pražák s nepražáckým pohledem na svět.&nbsp\;Black&amp\;Wood Lounge otevírá v 17:00\, show začíná v 19:00\, v baru si před show tedy určitě stíháte vychutnat chutné vodní dýmky&nbsp\;.
LOCATION:Mladá Boleslav
END:VEVENT
END:VCALENDAR